BEGIN:VCALENDAR
VERSION:2.0
PRODID:-//Ventura County Fairgrounds - ECPv6.15.17.1//NONSGML v1.0//EN
CALSCALE:GREGORIAN
METHOD:PUBLISH
X-WR-CALNAME:Ventura County Fairgrounds
X-ORIGINAL-URL:https://venturacountyfair.org
X-WR-CALDESC:Events for Ventura County Fairgrounds
REFRESH-INTERVAL;VALUE=DURATION:PT1H
X-Robots-Tag:noindex
X-PUBLISHED-TTL:PT1H
BEGIN:VTIMEZONE
TZID:America/Los_Angeles
BEGIN:DAYLIGHT
TZOFFSETFROM:-0800
TZOFFSETTO:-0700
TZNAME:PDT
DTSTART:20240310T100000
END:DAYLIGHT
BEGIN:STANDARD
TZOFFSETFROM:-0700
TZOFFSETTO:-0800
TZNAME:PST
DTSTART:20241103T090000
END:STANDARD
BEGIN:DAYLIGHT
TZOFFSETFROM:-0800
TZOFFSETTO:-0700
TZNAME:PDT
DTSTART:20250309T100000
END:DAYLIGHT
BEGIN:STANDARD
TZOFFSETFROM:-0700
TZOFFSETTO:-0800
TZNAME:PST
DTSTART:20251102T090000
END:STANDARD
BEGIN:DAYLIGHT
TZOFFSETFROM:-0800
TZOFFSETTO:-0700
TZNAME:PDT
DTSTART:20260308T100000
END:DAYLIGHT
BEGIN:STANDARD
TZOFFSETFROM:-0700
TZOFFSETTO:-0800
TZNAME:PST
DTSTART:20261101T090000
END:STANDARD
END:VTIMEZONE
BEGIN:VEVENT
DTSTART;TZID=America/Los_Angeles:20250403T150000
DTEND;TZID=America/Los_Angeles:20250403T190000
DTSTAMP:20260420T020124
CREATED:20250110T234303Z
LAST-MODIFIED:20250110T234303Z
UID:10000525-1743692400-1743706800@venturacountyfair.org
SUMMARY:Latino Business Expo
DESCRIPTION:Welcome to the #1 business expo with 100+ businesses showcasing their new products and services. \nEvent details:\nApril 3\n3pm-7pm\nAdmission: $10 (available online or at the gate)\nParking: $10\nWebsite
URL:https://venturacountyfair.org/event/latino-business-expo-2/
LOCATION:Ventura County Fairgrounds\, 10 W Harbor Blvd\, Ventura\, CA\, 93001\, United States
ATTACH;FMTTYPE=image/png:https://venturacountyfair.org/wp-content/uploads/2025/01/Latino-Business-Expo-Ventura-County-Fairgrounds.png
END:VEVENT
BEGIN:VEVENT
DTSTART;VALUE=DATE:20250411
DTEND;VALUE=DATE:20250412
DTSTAMP:20260420T020124
CREATED:20250314T184228Z
LAST-MODIFIED:20250314T184228Z
UID:10000824-1744329600-1744415999@venturacountyfair.org
SUMMARY:Central California Spa Show
DESCRIPTION:Swim Spa & Hot Tub Show Largest Display of Swim Spas in the area. Save thousands on Factory Direct Spas! \nApril 11\, 12 & 13 2025 \nWebsite
URL:https://venturacountyfair.org/event/central-california-spa-show/2025-04-11/
LOCATION:Ventura County Fairgrounds\, 10 W Harbor Blvd\, Ventura\, CA\, 93001\, United States
ATTACH;FMTTYPE=image/png:https://venturacountyfair.org/wp-content/uploads/2025/03/Ventura-County-Fairgrounds-Spa-Show.png
END:VEVENT
BEGIN:VEVENT
DTSTART;VALUE=DATE:20250412
DTEND;VALUE=DATE:20250413
DTSTAMP:20260420T020124
CREATED:20250314T184228Z
LAST-MODIFIED:20250314T184228Z
UID:10000825-1744444800-1744477200@venturacountyfair.org
SUMMARY:Central California Spa Show
DESCRIPTION:Swim Spa & Hot Tub Show Largest Display of Swim Spas in the area. Save thousands on Factory Direct Spas! \nApril 11\, 12 & 13 2025 \nWebsite
URL:https://venturacountyfair.org/event/central-california-spa-show/2025-04-12/
LOCATION:Ventura County Fairgrounds\, 10 W Harbor Blvd\, Ventura\, CA\, 93001\, United States
ATTACH;FMTTYPE=image/png:https://venturacountyfair.org/wp-content/uploads/2025/03/Ventura-County-Fairgrounds-Spa-Show.png
END:VEVENT
BEGIN:VEVENT
DTSTART;VALUE=DATE:20250413
DTEND;VALUE=DATE:20250414
DTSTAMP:20260420T020124
CREATED:20250314T184228Z
LAST-MODIFIED:20250314T184228Z
UID:10000826-1744531200-1744563600@venturacountyfair.org
SUMMARY:Central California Spa Show
DESCRIPTION:Swim Spa & Hot Tub Show Largest Display of Swim Spas in the area. Save thousands on Factory Direct Spas! \nApril 11\, 12 & 13 2025 \nWebsite
URL:https://venturacountyfair.org/event/central-california-spa-show/2025-04-13/
LOCATION:Ventura County Fairgrounds\, 10 W Harbor Blvd\, Ventura\, CA\, 93001\, United States
ATTACH;FMTTYPE=image/png:https://venturacountyfair.org/wp-content/uploads/2025/03/Ventura-County-Fairgrounds-Spa-Show.png
END:VEVENT
BEGIN:VEVENT
DTSTART;TZID=America/Los_Angeles:20250419T120000
DTEND;TZID=America/Los_Angeles:20250419T200000
DTSTAMP:20260420T020125
CREATED:20250213T002227Z
LAST-MODIFIED:20250213T002227Z
UID:10000803-1745064000-1745092800@venturacountyfair.org
SUMMARY:Spirit of Japan
DESCRIPTION:Join us at Spirit of Japan at the Ventura County Fairgrounds on April 19–20\, 2025! Enjoy authentic Japanese cuisine\, premium sake\, and exciting cultural experiences in a lively festival atmosphere. Don’t miss this unique celebration of Japan! \nDates:\nSaturday\, April 19: 12pm-8pm\nSunday\, April 20: 11am-6pm \nAdmission:\nEarly Bird: $14.99\nGeneral Admission: $17.99\nGeneral Admission (at door): $21.99\nAll prices exclude fees + taxes. \nWebsite
URL:https://venturacountyfair.org/event/spirit-of-japan/2025-04-19/
LOCATION:Ventura County Fairgrounds\, 10 W Harbor Blvd\, Ventura\, CA\, 93001\, United States
ATTACH;FMTTYPE=image/jpeg:https://venturacountyfair.org/wp-content/uploads/2025/02/1280x500-Nako-Kitada.jpg
END:VEVENT
BEGIN:VEVENT
DTSTART;TZID=America/Los_Angeles:20250420T110000
DTEND;TZID=America/Los_Angeles:20250420T180000
DTSTAMP:20260420T020125
CREATED:20250213T002227Z
LAST-MODIFIED:20250213T002227Z
UID:10000804-1745146800-1745172000@venturacountyfair.org
SUMMARY:Spirit of Japan
DESCRIPTION:Join us at Spirit of Japan at the Ventura County Fairgrounds on April 19–20\, 2025! Enjoy authentic Japanese cuisine\, premium sake\, and exciting cultural experiences in a lively festival atmosphere. Don’t miss this unique celebration of Japan! \nDates:\nSaturday\, April 19: 12pm-8pm\nSunday\, April 20: 11am-6pm \nAdmission:\nEarly Bird: $14.99\nGeneral Admission: $17.99\nGeneral Admission (at door): $21.99\nAll prices exclude fees + taxes. \nWebsite
URL:https://venturacountyfair.org/event/spirit-of-japan/2025-04-20/
LOCATION:Ventura County Fairgrounds\, 10 W Harbor Blvd\, Ventura\, CA\, 93001\, United States
ATTACH;FMTTYPE=image/jpeg:https://venturacountyfair.org/wp-content/uploads/2025/02/1280x500-Nako-Kitada.jpg
END:VEVENT
BEGIN:VEVENT
DTSTART;TZID=America/Los_Angeles:20250426T060000
DTEND;TZID=America/Los_Angeles:20250426T130000
DTSTAMP:20260420T020125
CREATED:20250211T184052Z
LAST-MODIFIED:20250211T184052Z
UID:10000540-1745647200-1745672400@venturacountyfair.org
SUMMARY:Moving Day Ventura County
DESCRIPTION:Parkinson’s Moving Day is an annual fundraising walk event hosted by the Parkinson’s Foundation\, where individuals with Parkinson’s disease\, their families\, and supporters come together to raise awareness\, celebrate movement (which is beneficial for managing Parkinson’s symptoms)\, and advocate for better research and care for those living with the disease; essentially\, it’s a day to “move” for a cause and support the Parkinson’s community. \nDates:\nApril 26 from 6am-1pm \nAdmission:\nFree \nParking:\n$10 \nWebsite
URL:https://venturacountyfair.org/event/moving-day-ventura-county/
LOCATION:Ventura County Fairgrounds\, 10 W Harbor Blvd\, Ventura\, CA\, 93001\, United States
ATTACH;FMTTYPE=image/png:https://venturacountyfair.org/wp-content/uploads/2025/02/VCF-Website-Event-Graphics-2-copy.png
END:VEVENT
END:VCALENDAR