BEGIN:VCALENDAR
VERSION:2.0
PRODID:-//Ventura County Fairgrounds - ECPv6.15.17.1//NONSGML v1.0//EN
CALSCALE:GREGORIAN
METHOD:PUBLISH
X-ORIGINAL-URL:https://venturacountyfair.org
X-WR-CALDESC:Events for Ventura County Fairgrounds
REFRESH-INTERVAL;VALUE=DURATION:PT1H
X-Robots-Tag:noindex
X-PUBLISHED-TTL:PT1H
BEGIN:VTIMEZONE
TZID:America/Los_Angeles
BEGIN:DAYLIGHT
TZOFFSETFROM:-0800
TZOFFSETTO:-0700
TZNAME:PDT
DTSTART:20240310T100000
END:DAYLIGHT
BEGIN:STANDARD
TZOFFSETFROM:-0700
TZOFFSETTO:-0800
TZNAME:PST
DTSTART:20241103T090000
END:STANDARD
BEGIN:DAYLIGHT
TZOFFSETFROM:-0800
TZOFFSETTO:-0700
TZNAME:PDT
DTSTART:20250309T100000
END:DAYLIGHT
BEGIN:STANDARD
TZOFFSETFROM:-0700
TZOFFSETTO:-0800
TZNAME:PST
DTSTART:20251102T090000
END:STANDARD
BEGIN:DAYLIGHT
TZOFFSETFROM:-0800
TZOFFSETTO:-0700
TZNAME:PDT
DTSTART:20260308T100000
END:DAYLIGHT
BEGIN:STANDARD
TZOFFSETFROM:-0700
TZOFFSETTO:-0800
TZNAME:PST
DTSTART:20261101T090000
END:STANDARD
END:VTIMEZONE
BEGIN:VEVENT
DTSTART;TZID=America/Los_Angeles:20250531T080000
DTEND;TZID=America/Los_Angeles:20250609T170000
DTSTAMP:20260419T194243
CREATED:20250521T171833Z
LAST-MODIFIED:20250521T171833Z
UID:10000845-1748678400-1749488400@venturacountyfair.org
SUMMARY:Marinelli Bros Circus
DESCRIPTION:Step right up to the world debut of Marinelli Bros. Circus – A New Experience at the Ventura County Fairgrounds May 31 – June 9! This all-new\, family-owned and operated circus seamlessly blends tradition with innovation\, offering an unparalleled and thrilling experience for all ages. Audiences can immerse themselves in the intimate performance\, feeling like part of the excitement as world-renowned performers showcase jaw-dropping acts\, heart-pounding stunts\, and mesmerizing artistry. Prepare to be captivated\, entertained\, and amazed at Marinelli Bros. Circus — A New Experience! \nMay 31 – June 9\nShowtimes vary\nTickets: $20 – $55 \nPurchase tickets here!
URL:https://venturacountyfair.org/event/marinelli-bros-circus/
LOCATION:Ventura County Fairgrounds\, 10 W Harbor Blvd\, Ventura\, CA\, 93001\, United States
ATTACH;FMTTYPE=image/jpeg:https://venturacountyfair.org/wp-content/uploads/2025/05/MBC_VT_1280x500-Emily-White.jpg
END:VEVENT
BEGIN:VEVENT
DTSTART;TZID=America/Los_Angeles:20250601T080000
DTEND;TZID=America/Los_Angeles:20250601T170000
DTSTAMP:20260419T194243
CREATED:20250308T230950Z
LAST-MODIFIED:20250308T230950Z
UID:10000820-1748764800-1748797200@venturacountyfair.org
SUMMARY:Summerfest Dog Show Cluster
DESCRIPTION:Summerfest Dog Show Cluster showcases AKC purebred dogs competing in conformation and scent work. Come cheer for your favorite dog to win Best-in-Show and watch dogs use their sniffers to find a hidden scent. \nMay 31st – 8am-5pm\nJune 1st – 8am-5pm \nFree admission\nParking: $15 \nWebsite
URL:https://venturacountyfair.org/event/summerfest-dog-show-cluster/2025-06-01/
LOCATION:Ventura County Fairgrounds\, 10 W Harbor Blvd\, Ventura\, CA\, 93001\, United States
ATTACH;FMTTYPE=image/png:https://venturacountyfair.org/wp-content/uploads/2025/03/Ventura-County-Fairgrounds-Summerfest-Dog-Show-Cluster.png
END:VEVENT
BEGIN:VEVENT
DTSTART;TZID=America/Los_Angeles:20250606T140000
DTEND;TZID=America/Los_Angeles:20250606T220000
DTSTAMP:20260419T194243
CREATED:20250505T195336Z
LAST-MODIFIED:20250505T195336Z
UID:10000829-1749218400-1749247200@venturacountyfair.org
SUMMARY:7th Annual Seaside Tattoo Show
DESCRIPTION:Located just steps from Surfer’s Point Beach\, the 7th Annual Seaside Tattoo Show is a three-day celebration of tattoos\, art\, and alternative culture. Featuring 115+ tattoo artists\, piercers\, unique vendors\, live performances\, and 20+ tattoo contests\, this family-friendly festival has something for everyone. Don’t miss your chance to be part of this unforgettable seaside tradition! \nDates:\nJune 6th: 2pm-10pm\nJune 7th: 11am-11pm\nJune 8th: 11am-7pm \nAdmission:\nFriday: $20\nSaturday: $25\nSunday: $25 \nParking:\n$10 \nGet tickets here!
URL:https://venturacountyfair.org/event/7th-annual-seaside-tattoo-show/2025-06-06/
LOCATION:Ventura County Fairgrounds\, 10 W Harbor Blvd\, Ventura\, CA\, 93001\, United States
ATTACH;FMTTYPE=image/png:https://venturacountyfair.org/wp-content/uploads/2025/05/Seaside-Tattoo-Show.png
END:VEVENT
BEGIN:VEVENT
DTSTART;TZID=America/Los_Angeles:20250607T110000
DTEND;TZID=America/Los_Angeles:20250607T230000
DTSTAMP:20260419T194243
CREATED:20250505T195336Z
LAST-MODIFIED:20250505T195336Z
UID:10000830-1749294000-1749337200@venturacountyfair.org
SUMMARY:7th Annual Seaside Tattoo Show
DESCRIPTION:Located just steps from Surfer’s Point Beach\, the 7th Annual Seaside Tattoo Show is a three-day celebration of tattoos\, art\, and alternative culture. Featuring 115+ tattoo artists\, piercers\, unique vendors\, live performances\, and 20+ tattoo contests\, this family-friendly festival has something for everyone. Don’t miss your chance to be part of this unforgettable seaside tradition! \nDates:\nJune 6th: 2pm-10pm\nJune 7th: 11am-11pm\nJune 8th: 11am-7pm \nAdmission:\nFriday: $20\nSaturday: $25\nSunday: $25 \nParking:\n$10 \nGet tickets here!
URL:https://venturacountyfair.org/event/7th-annual-seaside-tattoo-show/2025-06-07/
LOCATION:Ventura County Fairgrounds\, 10 W Harbor Blvd\, Ventura\, CA\, 93001\, United States
ATTACH;FMTTYPE=image/png:https://venturacountyfair.org/wp-content/uploads/2025/05/Seaside-Tattoo-Show.png
END:VEVENT
BEGIN:VEVENT
DTSTART;TZID=America/Los_Angeles:20250608T110000
DTEND;TZID=America/Los_Angeles:20250608T190000
DTSTAMP:20260419T194243
CREATED:20250505T195336Z
LAST-MODIFIED:20250505T195336Z
UID:10000831-1749380400-1749409200@venturacountyfair.org
SUMMARY:7th Annual Seaside Tattoo Show
DESCRIPTION:Located just steps from Surfer’s Point Beach\, the 7th Annual Seaside Tattoo Show is a three-day celebration of tattoos\, art\, and alternative culture. Featuring 115+ tattoo artists\, piercers\, unique vendors\, live performances\, and 20+ tattoo contests\, this family-friendly festival has something for everyone. Don’t miss your chance to be part of this unforgettable seaside tradition! \nDates:\nJune 6th: 2pm-10pm\nJune 7th: 11am-11pm\nJune 8th: 11am-7pm \nAdmission:\nFriday: $20\nSaturday: $25\nSunday: $25 \nParking:\n$10 \nGet tickets here!
URL:https://venturacountyfair.org/event/7th-annual-seaside-tattoo-show/2025-06-08/
LOCATION:Ventura County Fairgrounds\, 10 W Harbor Blvd\, Ventura\, CA\, 93001\, United States
ATTACH;FMTTYPE=image/png:https://venturacountyfair.org/wp-content/uploads/2025/05/Seaside-Tattoo-Show.png
END:VEVENT
BEGIN:VEVENT
DTSTART;TZID=America/Los_Angeles:20250628T130000
DTEND;TZID=America/Los_Angeles:20250628T220000
DTSTAMP:20260419T194243
CREATED:20250621T022835Z
LAST-MODIFIED:20250621T022835Z
UID:10000852-1751115600-1751148000@venturacountyfair.org
SUMMARY:Ziggy Marley at Surfer's Point Live
DESCRIPTION:Don’t miss out on this one-of-a-kind beachside reggae experience at Surfers Point Live in the Ventura County Fairgrounds parking lot on Saturday\, June 28 in Ventura! \nGet your tickets now: www.surferspointlive.com \nLineup:\nZiggy Marley\nMatisyahu\nLupe Fiasco\nRey Fresco\nOnePeople \nSaturday\, June 28\nSurfer’s Point Live @ Ventura County Fairgrounds\nTickets: www.surferspointlive.com
URL:https://venturacountyfair.org/event/ziggy-marley-at-surfers-point-live/
LOCATION:Ventura County Fairgrounds\, 10 W Harbor Blvd\, Ventura\, CA\, 93001\, United States
ATTACH;FMTTYPE=image/png:https://venturacountyfair.org/wp-content/uploads/2025/06/Ziggy-Marley-scaled.png
END:VEVENT
BEGIN:VEVENT
DTSTART;VALUE=DATE:20250629
DTEND;VALUE=DATE:20250630
DTSTAMP:20260419T194243
CREATED:20250207T165059Z
LAST-MODIFIED:20250207T165059Z
UID:10000536-1751155200-1751241599@venturacountyfair.org
SUMMARY:Boots & Brews Returns with Kane Brown
DESCRIPTION:Country Music superstar Kane Brown is coming to Boots & Brews at Surfers Point Live at the Ventura County Fairgrounds on June 29th! Tickets go on sale to the general public on Thursday\, Feb. 13th. For more information and to buy tickets\, visit https://www.bootsandbrews.com/.
URL:https://venturacountyfair.org/event/boots-brews-returns-with-kane-brown/
LOCATION:Ventura County Fairgrounds\, 10 W Harbor Blvd\, Ventura\, CA\, 93001\, United States
ATTACH;FMTTYPE=image/png:https://venturacountyfair.org/wp-content/uploads/2025/02/VCF-Website-Event-Graphics-2.png
END:VEVENT
END:VCALENDAR