BEGIN:VCALENDAR
VERSION:2.0
PRODID:-//Ventura County Fairgrounds - ECPv6.15.17.1//NONSGML v1.0//EN
CALSCALE:GREGORIAN
METHOD:PUBLISH
X-WR-CALNAME:Ventura County Fairgrounds
X-ORIGINAL-URL:https://venturacountyfair.org
X-WR-CALDESC:Events for Ventura County Fairgrounds
REFRESH-INTERVAL;VALUE=DURATION:PT1H
X-Robots-Tag:noindex
X-PUBLISHED-TTL:PT1H
BEGIN:VTIMEZONE
TZID:America/Los_Angeles
BEGIN:DAYLIGHT
TZOFFSETFROM:-0800
TZOFFSETTO:-0700
TZNAME:PDT
DTSTART:20240310T100000
END:DAYLIGHT
BEGIN:STANDARD
TZOFFSETFROM:-0700
TZOFFSETTO:-0800
TZNAME:PST
DTSTART:20241103T090000
END:STANDARD
BEGIN:DAYLIGHT
TZOFFSETFROM:-0800
TZOFFSETTO:-0700
TZNAME:PDT
DTSTART:20250309T100000
END:DAYLIGHT
BEGIN:STANDARD
TZOFFSETFROM:-0700
TZOFFSETTO:-0800
TZNAME:PST
DTSTART:20251102T090000
END:STANDARD
BEGIN:DAYLIGHT
TZOFFSETFROM:-0800
TZOFFSETTO:-0700
TZNAME:PDT
DTSTART:20260308T100000
END:DAYLIGHT
BEGIN:STANDARD
TZOFFSETFROM:-0700
TZOFFSETTO:-0800
TZNAME:PST
DTSTART:20261101T090000
END:STANDARD
END:VTIMEZONE
BEGIN:VEVENT
DTSTART;TZID=America/Los_Angeles:20250719T130000
DTEND;TZID=America/Los_Angeles:20250719T210000
DTSTAMP:20260419T160050
CREATED:20250715T003806Z
LAST-MODIFIED:20250715T004120Z
UID:10000853-1752930000-1752958800@venturacountyfair.org
SUMMARY:Tequila & Taco Music Festival
DESCRIPTION:Get ready\, Ventura!! Tequila & Taco Music Festival returns to the Ventura County Fairgrounds on July 19 & 20! \nGet your tickets now for:\nGourmet street tacos\nTop shelf tequila\nIce cold margaritas \nTequila & Taco Music Festival\nJuly 19 & 20 \nSaturday\, July 19th – 1pm-9pm\nLil Kim\nAdelaide\nLa Marcha \nSunday\, July 20th – 12pm-6pm\nVilma Diaz Y La Sonora\nThe Shakira Experience\nSmooth Sounds of Santana \nTICKETS
URL:https://venturacountyfair.org/event/tequila-taco-music-festival-2/2025-07-19/
LOCATION:Ventura County Fairgrounds\, 10 W Harbor Blvd\, Ventura\, CA\, 93001\, United States
ATTACH;FMTTYPE=image/png:https://venturacountyfair.org/wp-content/uploads/2025/07/VCF-Website-Event-Graphics-3-scaled.png
END:VEVENT
BEGIN:VEVENT
DTSTART;TZID=America/Los_Angeles:20250720T120000
DTEND;TZID=America/Los_Angeles:20250720T180000
DTSTAMP:20260419T160050
CREATED:20250715T003806Z
LAST-MODIFIED:20250715T004120Z
UID:10000854-1753012800-1753034400@venturacountyfair.org
SUMMARY:Tequila & Taco Music Festival
DESCRIPTION:Get ready\, Ventura!! Tequila & Taco Music Festival returns to the Ventura County Fairgrounds on July 19 & 20! \nGet your tickets now for:\nGourmet street tacos\nTop shelf tequila\nIce cold margaritas \nTequila & Taco Music Festival\nJuly 19 & 20 \nSaturday\, July 19th – 1pm-9pm\nLil Kim\nAdelaide\nLa Marcha \nSunday\, July 20th – 12pm-6pm\nVilma Diaz Y La Sonora\nThe Shakira Experience\nSmooth Sounds of Santana \nTICKETS
URL:https://venturacountyfair.org/event/tequila-taco-music-festival-2/2025-07-20/
LOCATION:Ventura County Fairgrounds\, 10 W Harbor Blvd\, Ventura\, CA\, 93001\, United States
ATTACH;FMTTYPE=image/png:https://venturacountyfair.org/wp-content/uploads/2025/07/VCF-Website-Event-Graphics-3-scaled.png
END:VEVENT
END:VCALENDAR