BEGIN:VCALENDAR
VERSION:2.0
PRODID:-//Ventura County Fairgrounds - ECPv6.15.17.1//NONSGML v1.0//EN
CALSCALE:GREGORIAN
METHOD:PUBLISH
X-ORIGINAL-URL:https://venturacountyfair.org
X-WR-CALDESC:Events for Ventura County Fairgrounds
REFRESH-INTERVAL;VALUE=DURATION:PT1H
X-Robots-Tag:noindex
X-PUBLISHED-TTL:PT1H
BEGIN:VTIMEZONE
TZID:America/Los_Angeles
BEGIN:DAYLIGHT
TZOFFSETFROM:-0800
TZOFFSETTO:-0700
TZNAME:PDT
DTSTART:20240310T100000
END:DAYLIGHT
BEGIN:STANDARD
TZOFFSETFROM:-0700
TZOFFSETTO:-0800
TZNAME:PST
DTSTART:20241103T090000
END:STANDARD
BEGIN:DAYLIGHT
TZOFFSETFROM:-0800
TZOFFSETTO:-0700
TZNAME:PDT
DTSTART:20250309T100000
END:DAYLIGHT
BEGIN:STANDARD
TZOFFSETFROM:-0700
TZOFFSETTO:-0800
TZNAME:PST
DTSTART:20251102T090000
END:STANDARD
BEGIN:DAYLIGHT
TZOFFSETFROM:-0800
TZOFFSETTO:-0700
TZNAME:PDT
DTSTART:20260308T100000
END:DAYLIGHT
BEGIN:STANDARD
TZOFFSETFROM:-0700
TZOFFSETTO:-0800
TZNAME:PST
DTSTART:20261101T090000
END:STANDARD
END:VTIMEZONE
BEGIN:VEVENT
DTSTART;VALUE=DATE:20250822
DTEND;VALUE=DATE:20250823
DTSTAMP:20260419T141736
CREATED:20250715T004725Z
LAST-MODIFIED:20250715T004725Z
UID:10000855-1755820800-1755907199@venturacountyfair.org
SUMMARY:Throw Down Cornhole Festival
DESCRIPTION:Join us for the Throw Down Cornhole Festival! Get ready for an action-packed weekend at the Throw Down Cornhole Festival\, happening August 22-24\, 2025! Even more excitement has been added this year to keep you entertained. Prepare for intense competition in Cornhole Tournaments\, groove to the beats of Live DJs and Bands\, and witness the adrenaline-pumping Legacy Fight Alliance Live MMA Fight Night. Test your aim with Axe Throwing\, and be amazed by the incredible Nitro Circus Motocross Demonstration. Plus\, you’ll find a wide variety of delicious options from Food Vendors\, an impressive Truck Show\, and much more! Don’t miss out on the biggest Throw Down yet! \nAugust 22-24\, 2025 \nAdmission:\n1-Day GA Pass: $20\n3-Day GA Pass: $45 \nParking:\n$20 \nTICKETS
URL:https://venturacountyfair.org/event/throw-down-cornhole-festival/2025-08-22/
LOCATION:Ventura County Fairgrounds\, 10 W Harbor Blvd\, Ventura\, CA\, 93001\, United States
ATTACH;FMTTYPE=image/jpeg:https://venturacountyfair.org/wp-content/uploads/2025/07/Banner1280x500-ThrowDown2025-Spencer-Makenzies-scaled.jpg
END:VEVENT
BEGIN:VEVENT
DTSTART;VALUE=DATE:20250823
DTEND;VALUE=DATE:20250824
DTSTAMP:20260419T141736
CREATED:20250715T004725Z
LAST-MODIFIED:20250715T004725Z
UID:10000856-1755943200-1755986400@venturacountyfair.org
SUMMARY:Throw Down Cornhole Festival
DESCRIPTION:Join us for the Throw Down Cornhole Festival! Get ready for an action-packed weekend at the Throw Down Cornhole Festival\, happening August 22-24\, 2025! Even more excitement has been added this year to keep you entertained. Prepare for intense competition in Cornhole Tournaments\, groove to the beats of Live DJs and Bands\, and witness the adrenaline-pumping Legacy Fight Alliance Live MMA Fight Night. Test your aim with Axe Throwing\, and be amazed by the incredible Nitro Circus Motocross Demonstration. Plus\, you’ll find a wide variety of delicious options from Food Vendors\, an impressive Truck Show\, and much more! Don’t miss out on the biggest Throw Down yet! \nAugust 22-24\, 2025 \nAdmission:\n1-Day GA Pass: $20\n3-Day GA Pass: $45 \nParking:\n$20 \nTICKETS
URL:https://venturacountyfair.org/event/throw-down-cornhole-festival/2025-08-23/
LOCATION:Ventura County Fairgrounds\, 10 W Harbor Blvd\, Ventura\, CA\, 93001\, United States
ATTACH;FMTTYPE=image/jpeg:https://venturacountyfair.org/wp-content/uploads/2025/07/Banner1280x500-ThrowDown2025-Spencer-Makenzies-scaled.jpg
END:VEVENT
BEGIN:VEVENT
DTSTART;VALUE=DATE:20250824
DTEND;VALUE=DATE:20250825
DTSTAMP:20260419T141736
CREATED:20250715T004725Z
LAST-MODIFIED:20250715T004725Z
UID:10000857-1756029600-1756065600@venturacountyfair.org
SUMMARY:Throw Down Cornhole Festival
DESCRIPTION:Join us for the Throw Down Cornhole Festival! Get ready for an action-packed weekend at the Throw Down Cornhole Festival\, happening August 22-24\, 2025! Even more excitement has been added this year to keep you entertained. Prepare for intense competition in Cornhole Tournaments\, groove to the beats of Live DJs and Bands\, and witness the adrenaline-pumping Legacy Fight Alliance Live MMA Fight Night. Test your aim with Axe Throwing\, and be amazed by the incredible Nitro Circus Motocross Demonstration. Plus\, you’ll find a wide variety of delicious options from Food Vendors\, an impressive Truck Show\, and much more! Don’t miss out on the biggest Throw Down yet! \nAugust 22-24\, 2025 \nAdmission:\n1-Day GA Pass: $20\n3-Day GA Pass: $45 \nParking:\n$20 \nTICKETS
URL:https://venturacountyfair.org/event/throw-down-cornhole-festival/2025-08-24/
LOCATION:Ventura County Fairgrounds\, 10 W Harbor Blvd\, Ventura\, CA\, 93001\, United States
ATTACH;FMTTYPE=image/jpeg:https://venturacountyfair.org/wp-content/uploads/2025/07/Banner1280x500-ThrowDown2025-Spencer-Makenzies-scaled.jpg
END:VEVENT
BEGIN:VEVENT
DTSTART;TZID=America/Los_Angeles:20250830T090000
DTEND;TZID=America/Los_Angeles:20250830T170000
DTSTAMP:20260419T141736
CREATED:20250820T165045Z
LAST-MODIFIED:20250820T165045Z
UID:10000858-1756544400-1756573200@venturacountyfair.org
SUMMARY:Ventura Nationals Hot Rods\, Kustoms & Motorcycle Show
DESCRIPTION:The 22nd Annual Ventura Nationals Hot Rods\, Kustoms & Motorcycle Show pulls into Ventura this Labor Day Weekend. Car culture enthusiasts and families alike will enjoy over 1\,000 hot rods\, customs\, trucks\, vans\, VW’s and motorcycles all in one place under the palm trees with an ocean breeze at the Fairgrounds. Live entertainment throughout the day\, artshow\, vendors and more! Good people\, good vibes only. \n$20 – Adults\n$15 – Seniors and Military\nFREE – 12 and under\n(Must purchase at the gate) \n 
URL:https://venturacountyfair.org/event/ventura-nationals-hot-rods-kustoms-motorcycle-show/
LOCATION:Ventura County Fairgrounds\, 10 W Harbor Blvd\, Ventura\, CA\, 93001\, United States
ATTACH;FMTTYPE=image/png:https://venturacountyfair.org/wp-content/uploads/2025/08/Ventura-Nationals-Ventura-County-Fairgrounds-scaled.png
END:VEVENT
END:VCALENDAR