BEGIN:VCALENDAR
VERSION:2.0
PRODID:-//Ventura County Fairgrounds - ECPv6.15.17.1//NONSGML v1.0//EN
CALSCALE:GREGORIAN
METHOD:PUBLISH
X-WR-CALNAME:Ventura County Fairgrounds
X-ORIGINAL-URL:https://venturacountyfair.org
X-WR-CALDESC:Events for Ventura County Fairgrounds
REFRESH-INTERVAL;VALUE=DURATION:PT1H
X-Robots-Tag:noindex
X-PUBLISHED-TTL:PT1H
BEGIN:VTIMEZONE
TZID:America/Los_Angeles
BEGIN:DAYLIGHT
TZOFFSETFROM:-0800
TZOFFSETTO:-0700
TZNAME:PDT
DTSTART:20240310T100000
END:DAYLIGHT
BEGIN:STANDARD
TZOFFSETFROM:-0700
TZOFFSETTO:-0800
TZNAME:PST
DTSTART:20241103T090000
END:STANDARD
BEGIN:DAYLIGHT
TZOFFSETFROM:-0800
TZOFFSETTO:-0700
TZNAME:PDT
DTSTART:20250309T100000
END:DAYLIGHT
BEGIN:STANDARD
TZOFFSETFROM:-0700
TZOFFSETTO:-0800
TZNAME:PST
DTSTART:20251102T090000
END:STANDARD
BEGIN:DAYLIGHT
TZOFFSETFROM:-0800
TZOFFSETTO:-0700
TZNAME:PDT
DTSTART:20260308T100000
END:DAYLIGHT
BEGIN:STANDARD
TZOFFSETFROM:-0700
TZOFFSETTO:-0800
TZNAME:PST
DTSTART:20261101T090000
END:STANDARD
END:VTIMEZONE
BEGIN:VEVENT
DTSTART;TZID=America/Los_Angeles:20250912T100000
DTEND;TZID=America/Los_Angeles:20250912T170000
DTSTAMP:20260419T122705
CREATED:20250825T163342Z
LAST-MODIFIED:20250825T163342Z
UID:10000859-1757671200-1757696400@venturacountyfair.org
SUMMARY:Harvest Festival
DESCRIPTION:Family-owned and operated\, we take pride in upholding the tradition of excellence that has been enjoyed for over 50 years. Shop a vast collection of local makers and small business owners all in one place! Community driven and artisan inspired\, it’s truly a unique experience. With hundreds of handcrafted and mindfully curated art & crafts featuring photography\, fine jewelry\, specialty food\, blown glass\, wood art\, metalwork\, vintage wares and more. Three days for the price of one ticket – you won’t find a better bargain! \nDates:\nSept. 12\, 10am to 5pm\nSept. 13\, 10am to 5pm\nSept. 14th\, 10am to 4pm \nAdmission:\n$9 General\n$7 Senior and Military\n$4 Youth\n12 and under FREE\nAvailable to purchase online and at the gate \nParking:\n$10 \nWebsite \n 
URL:https://venturacountyfair.org/event/harvest-festival-2/2025-09-12/
LOCATION:Ventura County Fairgrounds\, 10 W Harbor Blvd\, Ventura\, CA\, 93001\, United States
ATTACH;FMTTYPE=image/jpeg:https://venturacountyfair.org/wp-content/uploads/2025/08/Ventura-Art-1-Jordana-Glenn.jpg
END:VEVENT
BEGIN:VEVENT
DTSTART;TZID=America/Los_Angeles:20250913T100000
DTEND;TZID=America/Los_Angeles:20250913T170000
DTSTAMP:20260419T122705
CREATED:20250825T163342Z
LAST-MODIFIED:20250825T163342Z
UID:10000860-1757757600-1757782800@venturacountyfair.org
SUMMARY:Harvest Festival
DESCRIPTION:Family-owned and operated\, we take pride in upholding the tradition of excellence that has been enjoyed for over 50 years. Shop a vast collection of local makers and small business owners all in one place! Community driven and artisan inspired\, it’s truly a unique experience. With hundreds of handcrafted and mindfully curated art & crafts featuring photography\, fine jewelry\, specialty food\, blown glass\, wood art\, metalwork\, vintage wares and more. Three days for the price of one ticket – you won’t find a better bargain! \nDates:\nSept. 12\, 10am to 5pm\nSept. 13\, 10am to 5pm\nSept. 14th\, 10am to 4pm \nAdmission:\n$9 General\n$7 Senior and Military\n$4 Youth\n12 and under FREE\nAvailable to purchase online and at the gate \nParking:\n$10 \nWebsite \n 
URL:https://venturacountyfair.org/event/harvest-festival-2/2025-09-13/
LOCATION:Ventura County Fairgrounds\, 10 W Harbor Blvd\, Ventura\, CA\, 93001\, United States
ATTACH;FMTTYPE=image/jpeg:https://venturacountyfair.org/wp-content/uploads/2025/08/Ventura-Art-1-Jordana-Glenn.jpg
END:VEVENT
BEGIN:VEVENT
DTSTART;TZID=America/Los_Angeles:20250914T100000
DTEND;TZID=America/Los_Angeles:20250914T160000
DTSTAMP:20260419T122705
CREATED:20250825T163342Z
LAST-MODIFIED:20250825T163342Z
UID:10000861-1757844000-1757865600@venturacountyfair.org
SUMMARY:Harvest Festival
DESCRIPTION:Family-owned and operated\, we take pride in upholding the tradition of excellence that has been enjoyed for over 50 years. Shop a vast collection of local makers and small business owners all in one place! Community driven and artisan inspired\, it’s truly a unique experience. With hundreds of handcrafted and mindfully curated art & crafts featuring photography\, fine jewelry\, specialty food\, blown glass\, wood art\, metalwork\, vintage wares and more. Three days for the price of one ticket – you won’t find a better bargain! \nDates:\nSept. 12\, 10am to 5pm\nSept. 13\, 10am to 5pm\nSept. 14th\, 10am to 4pm \nAdmission:\n$9 General\n$7 Senior and Military\n$4 Youth\n12 and under FREE\nAvailable to purchase online and at the gate \nParking:\n$10 \nWebsite \n 
URL:https://venturacountyfair.org/event/harvest-festival-2/2025-09-14/
LOCATION:Ventura County Fairgrounds\, 10 W Harbor Blvd\, Ventura\, CA\, 93001\, United States
ATTACH;FMTTYPE=image/jpeg:https://venturacountyfair.org/wp-content/uploads/2025/08/Ventura-Art-1-Jordana-Glenn.jpg
END:VEVENT
BEGIN:VEVENT
DTSTART;TZID=America/Los_Angeles:20250921T110000
DTEND;TZID=America/Los_Angeles:20250921T170000
DTSTAMP:20260419T122705
CREATED:20250828T163305Z
LAST-MODIFIED:20250920T225342Z
UID:10000869-1758452400-1758474000@venturacountyfair.org
SUMMARY:Ventura's Super Indoor Car Show 2025
DESCRIPTION:Join us on September 21\, 2025 for a day filled with cars\, trucks\, Dubs\, Hot Rods\, Kustoms\, Imports\, motorcycles\, bicycles\, pedal cars and model cars! Event includes a concert and plenty of entertainment for everyone! \nDate:\nSept. 21 – 11am-5pm \nAdmission:\nPresale: $25\nDay of event: $30 \nParking:\n$15 \nWebsite
URL:https://venturacountyfair.org/event/venturas-super-indoor-car-show-2025/
LOCATION:Ventura County Fairgrounds\, 10 W Harbor Blvd\, Ventura\, CA\, 93001\, United States
ATTACH;FMTTYPE=image/png:https://venturacountyfair.org/wp-content/uploads/2025/08/Super-Indoor-Custom-Car-Show-Ventura-Fairgrounds.png
END:VEVENT
BEGIN:VEVENT
DTSTART;TZID=America/Los_Angeles:20250927T100000
DTEND;TZID=America/Los_Angeles:20250927T200000
DTSTAMP:20260419T122705
CREATED:20250505T221850Z
LAST-MODIFIED:20250505T221850Z
UID:10000832-1758967200-1759003200@venturacountyfair.org
SUMMARY:4th Seaside Oddities Expo
DESCRIPTION:Calling all lovers of the strange and unusual! Join us September 27–28\, 2025\, at the Ventura County Fairgrounds for a weekend filled with 100+ spooky artists and vendors\, sideshow performances every hour\, and eerie photo ops. Don’t miss this immersive celebration of all things odd! \nDates:\nSeptember 27 & 28\nEarly VIP admission: 10am – Noon\nGeneral admission: 12pm – 8pm \nAdmission:\n$30 \nParking:\n$10 \nWebsite
URL:https://venturacountyfair.org/event/4th-seaside-oddities-expo/2025-09-27/
LOCATION:Ventura County Fairgrounds\, 10 W Harbor Blvd\, Ventura\, CA\, 93001\, United States
ATTACH;FMTTYPE=image/png:https://venturacountyfair.org/wp-content/uploads/2025/05/Seaside-Oddities-Expo.png
END:VEVENT
BEGIN:VEVENT
DTSTART;TZID=America/Los_Angeles:20250928T100000
DTEND;TZID=America/Los_Angeles:20250928T200000
DTSTAMP:20260419T122705
CREATED:20250505T221850Z
LAST-MODIFIED:20250505T221850Z
UID:10000833-1759053600-1759089600@venturacountyfair.org
SUMMARY:4th Seaside Oddities Expo
DESCRIPTION:Calling all lovers of the strange and unusual! Join us September 27–28\, 2025\, at the Ventura County Fairgrounds for a weekend filled with 100+ spooky artists and vendors\, sideshow performances every hour\, and eerie photo ops. Don’t miss this immersive celebration of all things odd! \nDates:\nSeptember 27 & 28\nEarly VIP admission: 10am – Noon\nGeneral admission: 12pm – 8pm \nAdmission:\n$30 \nParking:\n$10 \nWebsite
URL:https://venturacountyfair.org/event/4th-seaside-oddities-expo/2025-09-28/
LOCATION:Ventura County Fairgrounds\, 10 W Harbor Blvd\, Ventura\, CA\, 93001\, United States
ATTACH;FMTTYPE=image/png:https://venturacountyfair.org/wp-content/uploads/2025/05/Seaside-Oddities-Expo.png
END:VEVENT
END:VCALENDAR