BEGIN:VCALENDAR
VERSION:2.0
PRODID:-//Ventura County Fairgrounds - ECPv6.15.17.1//NONSGML v1.0//EN
CALSCALE:GREGORIAN
METHOD:PUBLISH
X-WR-CALNAME:Ventura County Fairgrounds
X-ORIGINAL-URL:https://venturacountyfair.org
X-WR-CALDESC:Events for Ventura County Fairgrounds
REFRESH-INTERVAL;VALUE=DURATION:PT1H
X-Robots-Tag:noindex
X-PUBLISHED-TTL:PT1H
BEGIN:VTIMEZONE
TZID:America/Los_Angeles
BEGIN:DAYLIGHT
TZOFFSETFROM:-0800
TZOFFSETTO:-0700
TZNAME:PDT
DTSTART:20250309T100000
END:DAYLIGHT
BEGIN:STANDARD
TZOFFSETFROM:-0700
TZOFFSETTO:-0800
TZNAME:PST
DTSTART:20251102T090000
END:STANDARD
BEGIN:DAYLIGHT
TZOFFSETFROM:-0800
TZOFFSETTO:-0700
TZNAME:PDT
DTSTART:20260308T100000
END:DAYLIGHT
BEGIN:STANDARD
TZOFFSETFROM:-0700
TZOFFSETTO:-0800
TZNAME:PST
DTSTART:20261101T090000
END:STANDARD
BEGIN:DAYLIGHT
TZOFFSETFROM:-0800
TZOFFSETTO:-0700
TZNAME:PDT
DTSTART:20270314T100000
END:DAYLIGHT
BEGIN:STANDARD
TZOFFSETFROM:-0700
TZOFFSETTO:-0800
TZNAME:PST
DTSTART:20271107T090000
END:STANDARD
END:VTIMEZONE
BEGIN:VEVENT
DTSTART;VALUE=DATE:20261024
DTEND;VALUE=DATE:20261025
DTSTAMP:20260422T194220
CREATED:20260422T155210Z
LAST-MODIFIED:20260422T155210Z
UID:10001321-1792800000-1792886399@venturacountyfair.org
SUMMARY:Brick Convention - Lego Fan Event
DESCRIPTION:The Ultimate LEGO Fan Experience! Two buildings for 2026! Join us for the Brick Convention – Lego Fan Event October 24 & 25 at the Ventura County Fairgrounds! \nOct. 24-25\nAdmission: $15\nParking: $10\nLearn more here!
URL:https://venturacountyfair.org/event/brick-convention-lego-fan-event/2026-10-24/
LOCATION:Ventura County Fairgrounds\, 10 W Harbor Blvd\, Ventura\, CA\, 93001\, United States
ATTACH;FMTTYPE=image/png:https://venturacountyfair.org/wp-content/uploads/2026/04/ventura2026-Famous-Minifigs.png
END:VEVENT
BEGIN:VEVENT
DTSTART;VALUE=DATE:20261025
DTEND;VALUE=DATE:20261026
DTSTAMP:20260422T194220
CREATED:20260422T155210Z
LAST-MODIFIED:20260422T155210Z
UID:10001322-1792915200-1792947600@venturacountyfair.org
SUMMARY:Brick Convention - Lego Fan Event
DESCRIPTION:The Ultimate LEGO Fan Experience! Two buildings for 2026! Join us for the Brick Convention – Lego Fan Event October 24 & 25 at the Ventura County Fairgrounds! \nOct. 24-25\nAdmission: $15\nParking: $10\nLearn more here!
URL:https://venturacountyfair.org/event/brick-convention-lego-fan-event/2026-10-25/
LOCATION:Ventura County Fairgrounds\, 10 W Harbor Blvd\, Ventura\, CA\, 93001\, United States
ATTACH;FMTTYPE=image/png:https://venturacountyfair.org/wp-content/uploads/2026/04/ventura2026-Famous-Minifigs.png
END:VEVENT
END:VCALENDAR