BEGIN:VCALENDAR
VERSION:2.0
PRODID:-//Ventura County Fairgrounds - ECPv6.15.17.1//NONSGML v1.0//EN
CALSCALE:GREGORIAN
METHOD:PUBLISH
X-WR-CALNAME:Ventura County Fairgrounds
X-ORIGINAL-URL:https://venturacountyfair.org
X-WR-CALDESC:Events for Ventura County Fairgrounds
REFRESH-INTERVAL;VALUE=DURATION:PT1H
X-Robots-Tag:noindex
X-PUBLISHED-TTL:PT1H
BEGIN:VTIMEZONE
TZID:America/Los_Angeles
BEGIN:DAYLIGHT
TZOFFSETFROM:-0800
TZOFFSETTO:-0700
TZNAME:PDT
DTSTART:20250309T100000
END:DAYLIGHT
BEGIN:STANDARD
TZOFFSETFROM:-0700
TZOFFSETTO:-0800
TZNAME:PST
DTSTART:20251102T090000
END:STANDARD
BEGIN:DAYLIGHT
TZOFFSETFROM:-0800
TZOFFSETTO:-0700
TZNAME:PDT
DTSTART:20260308T100000
END:DAYLIGHT
BEGIN:STANDARD
TZOFFSETFROM:-0700
TZOFFSETTO:-0800
TZNAME:PST
DTSTART:20261101T090000
END:STANDARD
BEGIN:DAYLIGHT
TZOFFSETFROM:-0800
TZOFFSETTO:-0700
TZNAME:PDT
DTSTART:20270314T100000
END:DAYLIGHT
BEGIN:STANDARD
TZOFFSETFROM:-0700
TZOFFSETTO:-0800
TZNAME:PST
DTSTART:20271107T090000
END:STANDARD
END:VTIMEZONE
BEGIN:VEVENT
DTSTART;TZID=America/Los_Angeles:20260606T100000
DTEND;TZID=America/Los_Angeles:20260606T170000
DTSTAMP:20260422T194739
CREATED:20260422T155628Z
LAST-MODIFIED:20260422T155628Z
UID:10001323-1780740000-1780765200@venturacountyfair.org
SUMMARY:The Gold Coast Gem Show
DESCRIPTION:Don’t miss lots of gems\, minerals\, fossils\, beads\, jewelry\, lapidary supplies\, demonstrations\, and kids activities at The Gold Coast Gem Show June 6 & 7 at the Ventura County Fairgrounds. \nJune 6 – 10am-5pm\nJune 7 – 10am-4pm\nAdmission is free\nParking is $10\nLearn more here!
URL:https://venturacountyfair.org/event/the-gold-coast-gem-show/2026-06-06/
LOCATION:Ventura County Fairgrounds\, 10 W Harbor Blvd\, Ventura\, CA\, 93001\, United States
ATTACH;FMTTYPE=image/png:https://venturacountyfair.org/wp-content/uploads/2026/04/Gold-Coast-Gem-Show.png
END:VEVENT
BEGIN:VEVENT
DTSTART;TZID=America/Los_Angeles:20260607T100000
DTEND;TZID=America/Los_Angeles:20260607T160000
DTSTAMP:20260422T194739
CREATED:20260422T155628Z
LAST-MODIFIED:20260422T155628Z
UID:10001324-1780826400-1780848000@venturacountyfair.org
SUMMARY:The Gold Coast Gem Show
DESCRIPTION:Don’t miss lots of gems\, minerals\, fossils\, beads\, jewelry\, lapidary supplies\, demonstrations\, and kids activities at The Gold Coast Gem Show June 6 & 7 at the Ventura County Fairgrounds. \nJune 6 – 10am-5pm\nJune 7 – 10am-4pm\nAdmission is free\nParking is $10\nLearn more here!
URL:https://venturacountyfair.org/event/the-gold-coast-gem-show/2026-06-07/
LOCATION:Ventura County Fairgrounds\, 10 W Harbor Blvd\, Ventura\, CA\, 93001\, United States
ATTACH;FMTTYPE=image/png:https://venturacountyfair.org/wp-content/uploads/2026/04/Gold-Coast-Gem-Show.png
END:VEVENT
END:VCALENDAR